BEGIN:VCALENDAR
PRODID:-//AT Content Types//AT Event//EN
VERSION:2.0
METHOD:PUBLISH
BEGIN:VEVENT
DTSTAMP:20260424T001320Z
CREATED:20230516T162106Z
UID:ATEvent-5fd08cfd477249f39be5c362c9d10c2f
LAST-MODIFIED:20230523T161041Z
SUMMARY:East - Public Meeting with the Electoral Commission
DTSTART:20230615T173000Z
DTEND:20230615T190000Z
DESCRIPTION:St Andrew’s Church\, \nGlencrutchery Road\, \nDouglas
CLASS:PUBLIC
END:VEVENT
END:VCALENDAR
