BEGIN:VCALENDAR
PRODID:-//AT Content Types//AT Event//EN
VERSION:2.0
METHOD:PUBLISH
BEGIN:VEVENT
DTSTAMP:20260424T001249Z
CREATED:20230516T162107Z
UID:ATEvent-38fa704dab714d3f8b36df96f74d759b
LAST-MODIFIED:20230523T161041Z
SUMMARY:North - Public Meeting with the Electoral Commission
DTSTART:20230525T173000Z
DTEND:20230525T190000Z
DESCRIPTION:Board Room\, \nRamsey Town Hall\, \nParliament Square\, \n
 Ramsey
CLASS:PUBLIC
END:VEVENT
END:VCALENDAR
