BEGIN:VCALENDAR
PRODID:-//AT Content Types//AT Event//EN
VERSION:2.0
METHOD:PUBLISH
BEGIN:VEVENT
DTSTAMP:20260424T001254Z
CREATED:20230516T162106Z
UID:ATEvent-d48569af82fe43c9a8ffe0862c5a109d
LAST-MODIFIED:20230523T161041Z
SUMMARY:South - Public Meeting with the Electoral Commission
DTSTART:20230620T173000Z
DTEND:20230620T190000Z
DESCRIPTION:Arbory Parish Hall\, \nMain Road\, \nBallabeg
CLASS:PUBLIC
END:VEVENT
END:VCALENDAR
