BEGIN:VCALENDAR
PRODID:-//AT Content Types//AT Event//EN
VERSION:2.0
METHOD:PUBLISH
BEGIN:VEVENT
DTSTAMP:20260424T001203Z
CREATED:20230516T162106Z
UID:ATEvent-e67baf495bc044c8a102653dc0834dc8
LAST-MODIFIED:20230523T161040Z
SUMMARY:West - Public Meeting with the Electoral Commission
DTSTART:20230629T173000Z
DTEND:20230629T190000Z
DESCRIPTION:Corrin Hall\, \nDerby Road\, \nPeel
CLASS:PUBLIC
END:VEVENT
END:VCALENDAR
